BEGIN:VCALENDAR
VERSION:2.0
PRODID:-//Dunkirk Yacht Club - ECPv6.15.20//NONSGML v1.0//EN
CALSCALE:GREGORIAN
METHOD:PUBLISH
X-WR-CALNAME:Dunkirk Yacht Club
X-ORIGINAL-URL:https://dunkirkyachtclub.org
X-WR-CALDESC:Events for Dunkirk Yacht Club
REFRESH-INTERVAL;VALUE=DURATION:PT1H
X-Robots-Tag:noindex
X-PUBLISHED-TTL:PT1H
BEGIN:VTIMEZONE
TZID:UTC
BEGIN:STANDARD
TZOFFSETFROM:+0000
TZOFFSETTO:+0000
TZNAME:UTC
DTSTART:20240101T000000
END:STANDARD
END:VTIMEZONE
BEGIN:VEVENT
DTSTART;TZID=UTC:20250311T190000
DTEND;TZID=UTC:20250311T203000
DTSTAMP:20260421T182844
CREATED:20250222T023146Z
LAST-MODIFIED:20250222T023146Z
UID:1535-1741719600-1741725000@dunkirkyachtclub.org
SUMMARY:March '25 Board Meeting - on Zoom
DESCRIPTION:
URL:https://dunkirkyachtclub.org/event/march-25-board-meeting-on-zoom/
END:VEVENT
END:VCALENDAR