BEGIN:VCALENDAR
VERSION:2.0
PRODID:-//Dunkirk Yacht Club - ECPv6.15.20//NONSGML v1.0//EN
CALSCALE:GREGORIAN
METHOD:PUBLISH
X-ORIGINAL-URL:https://dunkirkyachtclub.org
X-WR-CALDESC:Events for Dunkirk Yacht Club
REFRESH-INTERVAL;VALUE=DURATION:PT1H
X-Robots-Tag:noindex
X-PUBLISHED-TTL:PT1H
BEGIN:VTIMEZONE
TZID:UTC
BEGIN:STANDARD
TZOFFSETFROM:+0000
TZOFFSETTO:+0000
TZNAME:UTC
DTSTART:20240101T000000
END:STANDARD
END:VTIMEZONE
BEGIN:VEVENT
DTSTART;TZID=UTC:20250114T080000
DTEND;TZID=UTC:20250114T170000
DTSTAMP:20260421T211237
CREATED:20241106T202405Z
LAST-MODIFIED:20241106T202414Z
UID:1511-1736841600-1736874000@dunkirkyachtclub.org
SUMMARY:January Board Meeting - Zoom Online
DESCRIPTION:
URL:https://dunkirkyachtclub.org/event/january-board-meeting-zoom-online/
END:VEVENT
END:VCALENDAR