BEGIN:VCALENDAR
VERSION:2.0
PRODID:-//Dunkirk Yacht Club - ECPv6.15.20//NONSGML v1.0//EN
CALSCALE:GREGORIAN
METHOD:PUBLISH
X-WR-CALNAME:Dunkirk Yacht Club
X-ORIGINAL-URL:https://dunkirkyachtclub.org
X-WR-CALDESC:Events for Dunkirk Yacht Club
REFRESH-INTERVAL;VALUE=DURATION:PT1H
X-Robots-Tag:noindex
X-PUBLISHED-TTL:PT1H
BEGIN:VTIMEZONE
TZID:UTC
BEGIN:STANDARD
TZOFFSETFROM:+0000
TZOFFSETTO:+0000
TZNAME:UTC
DTSTART:20230101T000000
END:STANDARD
END:VTIMEZONE
BEGIN:VEVENT
DTSTART;VALUE=DATE:20240803
DTEND;VALUE=DATE:20240804
DTSTAMP:20260422T041112
CREATED:20240612T235127Z
LAST-MODIFIED:20240612T235127Z
UID:1402-1722643200-1722729599@dunkirkyachtclub.org
SUMMARY:Poker Run
DESCRIPTION:
URL:https://dunkirkyachtclub.org/event/poker-run/
END:VEVENT
BEGIN:VEVENT
DTSTART;TZID=UTC:20240813T190000
DTEND;TZID=UTC:20240813T203000
DTSTAMP:20260422T041112
CREATED:20240711T193334Z
LAST-MODIFIED:20240711T193334Z
UID:1447-1723575600-1723581000@dunkirkyachtclub.org
SUMMARY:DYC August Board Meeting
DESCRIPTION:
URL:https://dunkirkyachtclub.org/event/dyc-august-board-meeting/
LOCATION:Dunkirk Yacht Club\, 90 Lake Shore Dr W\, Dunkirk\, NY 14048\, Dunkirk\, NY\, 14048\, United States
END:VEVENT
BEGIN:VEVENT
DTSTART;VALUE=DATE:20240817
DTEND;VALUE=DATE:20240818
DTSTAMP:20260422T041112
CREATED:20240612T235203Z
LAST-MODIFIED:20240612T235203Z
UID:1404-1723852800-1723939199@dunkirkyachtclub.org
SUMMARY:Shorewood Beach Party
DESCRIPTION:
URL:https://dunkirkyachtclub.org/event/shorewood-beach-party/
END:VEVENT
BEGIN:VEVENT
DTSTART;VALUE=DATE:20240824
DTEND;VALUE=DATE:20240825
DTSTAMP:20260422T041112
CREATED:20240612T235315Z
LAST-MODIFIED:20240817T022243Z
UID:1406-1724457600-1724543999@dunkirkyachtclub.org
SUMMARY:Coastal Sailboat Race
DESCRIPTION:Sailboat Race flyer(1)
URL:https://dunkirkyachtclub.org/event/coastal-sailboat-race/
END:VEVENT
BEGIN:VEVENT
DTSTART;VALUE=DATE:20240831
DTEND;VALUE=DATE:20240901
DTSTAMP:20260422T041112
CREATED:20240711T193240Z
LAST-MODIFIED:20240711T193240Z
UID:1445-1725062400-1725148799@dunkirkyachtclub.org
SUMMARY:Fishing Activities
DESCRIPTION:
URL:https://dunkirkyachtclub.org/event/fishing-activities/
LOCATION:Dunkirk Yacht Club\, 90 Lake Shore Dr W\, Dunkirk\, NY 14048\, Dunkirk\, NY\, 14048\, United States
END:VEVENT
END:VCALENDAR