BEGIN:VCALENDAR
VERSION:2.0
PRODID:-//Dunkirk Yacht Club - ECPv6.15.20//NONSGML v1.0//EN
CALSCALE:GREGORIAN
METHOD:PUBLISH
X-WR-CALNAME:Dunkirk Yacht Club
X-ORIGINAL-URL:https://dunkirkyachtclub.org
X-WR-CALDESC:Events for Dunkirk Yacht Club
REFRESH-INTERVAL;VALUE=DURATION:PT1H
X-Robots-Tag:noindex
X-PUBLISHED-TTL:PT1H
BEGIN:VTIMEZONE
TZID:UTC
BEGIN:STANDARD
TZOFFSETFROM:+0000
TZOFFSETTO:+0000
TZNAME:UTC
DTSTART:20230101T000000
END:STANDARD
END:VTIMEZONE
BEGIN:VEVENT
DTSTART;TZID=UTC:20240704T160000
DTEND;TZID=UTC:20240704T190000
DTSTAMP:20260422T052943
CREATED:20240612T235727Z
LAST-MODIFIED:20240612T235727Z
UID:1410-1720108800-1720119600@dunkirkyachtclub.org
SUMMARY:Fourth of July Dinner
DESCRIPTION:Hosted by Suzie & Jerry Maras\nRoast Beef on Weck or Kaiser Roll – $5 / sandwich\n** Deadline to sign up June 30 **
URL:https://dunkirkyachtclub.org/event/fourth-of-july-dinner/
END:VEVENT
BEGIN:VEVENT
DTSTART;TZID=UTC:20240709T190000
DTEND;TZID=UTC:20240709T203000
DTSTAMP:20260422T052943
CREATED:20240612T235912Z
LAST-MODIFIED:20240612T235912Z
UID:1412-1720551600-1720557000@dunkirkyachtclub.org
SUMMARY:DYC July Board Meeting
DESCRIPTION:
URL:https://dunkirkyachtclub.org/event/dyc-july-board-meeting/
LOCATION:Dunkirk Yacht Club\, 90 Lake Shore Dr W\, Dunkirk\, NY 14048\, Dunkirk\, NY\, 14048\, United States
END:VEVENT
BEGIN:VEVENT
DTSTART;VALUE=DATE:20240713
DTEND;VALUE=DATE:20240714
DTSTAMP:20260422T052943
CREATED:20240612T235025Z
LAST-MODIFIED:20240704T190050Z
UID:1400-1720828800-1720915199@dunkirkyachtclub.org
SUMMARY:Barcelona Lunch Excursion
DESCRIPTION:
URL:https://dunkirkyachtclub.org/event/barcelona-lunch-excursion/
END:VEVENT
BEGIN:VEVENT
DTSTART;TZID=UTC:20240727T163000
DTEND;TZID=UTC:20240727T220000
DTSTAMP:20260422T052943
CREATED:20240417T233005Z
LAST-MODIFIED:20240704T185755Z
UID:1356-1722097800-1722117600@dunkirkyachtclub.org
SUMMARY:Commodore's Party "Christmas in July"
DESCRIPTION:
URL:https://dunkirkyachtclub.org/event/commodores-party-christmas-in-july/
LOCATION:Dunkirk Yacht Club\, 90 Lake Shore Dr W\, Dunkirk\, NY 14048\, Dunkirk\, NY\, 14048\, United States
END:VEVENT
END:VCALENDAR