BEGIN:VCALENDAR
VERSION:2.0
PRODID:-//Dunkirk Yacht Club - ECPv6.15.20//NONSGML v1.0//EN
CALSCALE:GREGORIAN
METHOD:PUBLISH
X-WR-CALNAME:Dunkirk Yacht Club
X-ORIGINAL-URL:https://dunkirkyachtclub.org
X-WR-CALDESC:Events for Dunkirk Yacht Club
REFRESH-INTERVAL;VALUE=DURATION:PT1H
X-Robots-Tag:noindex
X-PUBLISHED-TTL:PT1H
BEGIN:VTIMEZONE
TZID:UTC
BEGIN:STANDARD
TZOFFSETFROM:+0000
TZOFFSETTO:+0000
TZNAME:UTC
DTSTART:20220101T000000
END:STANDARD
END:VTIMEZONE
BEGIN:VEVENT
DTSTART;TZID=UTC:20231007T180000
DTEND;TZID=UTC:20231007T210000
DTSTAMP:20260422T185229
CREATED:20230514T030305Z
LAST-MODIFIED:20230514T030322Z
UID:1299-1696701600-1696712400@dunkirkyachtclub.org
SUMMARY:Die Hard Party/Chili Cookoff
DESCRIPTION:
URL:https://dunkirkyachtclub.org/event/die-hard-party-chili-cookoff/
LOCATION:Dunkirk Yacht Club\, 90 Lake Shore Dr W\, Dunkirk\, NY 14048\, Dunkirk\, NY\, 14048\, United States
END:VEVENT
BEGIN:VEVENT
DTSTART;TZID=UTC:20231010T190000
DTEND;TZID=UTC:20231010T203000
DTSTAMP:20260422T185229
CREATED:20230914T193504Z
LAST-MODIFIED:20230914T193504Z
UID:1335-1696964400-1696969800@dunkirkyachtclub.org
SUMMARY:October DYC Board Meeting
DESCRIPTION:
URL:https://dunkirkyachtclub.org/event/october-dyc-board-meeting/
LOCATION:Dunkirk Yacht Club\, 90 Lake Shore Dr W\, Dunkirk\, NY 14048\, Dunkirk\, NY\, 14048\, United States
END:VEVENT
BEGIN:VEVENT
DTSTART;TZID=UTC:20231028T180000
DTEND;TZID=UTC:20231028T210000
DTSTAMP:20260422T185229
CREATED:20230514T030411Z
LAST-MODIFIED:20230514T030411Z
UID:1301-1698516000-1698526800@dunkirkyachtclub.org
SUMMARY:Halloween Party
DESCRIPTION:
URL:https://dunkirkyachtclub.org/event/halloween-party/
LOCATION:Dunkirk Yacht Club\, 90 Lake Shore Dr W\, Dunkirk\, NY 14048\, Dunkirk\, NY\, 14048\, United States
END:VEVENT
END:VCALENDAR