BEGIN:VCALENDAR
VERSION:2.0
PRODID:-//Dunkirk Yacht Club - ECPv6.15.20//NONSGML v1.0//EN
CALSCALE:GREGORIAN
METHOD:PUBLISH
X-WR-CALNAME:Dunkirk Yacht Club
X-ORIGINAL-URL:https://dunkirkyachtclub.org
X-WR-CALDESC:Events for Dunkirk Yacht Club
REFRESH-INTERVAL;VALUE=DURATION:PT1H
X-Robots-Tag:noindex
X-PUBLISHED-TTL:PT1H
BEGIN:VTIMEZONE
TZID:UTC
BEGIN:STANDARD
TZOFFSETFROM:+0000
TZOFFSETTO:+0000
TZNAME:UTC
DTSTART:20220101T000000
END:STANDARD
END:VTIMEZONE
BEGIN:VEVENT
DTSTART;VALUE=DATE:20230903
DTEND;VALUE=DATE:20230904
DTSTAMP:20260422T201815
CREATED:20230514T030205Z
LAST-MODIFIED:20230514T030205Z
UID:1297-1693699200-1693785599@dunkirkyachtclub.org
SUMMARY:Labor Day
DESCRIPTION:
URL:https://dunkirkyachtclub.org/event/labor-day/
END:VEVENT
BEGIN:VEVENT
DTSTART;TZID=UTC:20230912T190000
DTEND;TZID=UTC:20230912T203000
DTSTAMP:20260422T201815
CREATED:20230802T043246Z
LAST-MODIFIED:20230802T043246Z
UID:1322-1694545200-1694550600@dunkirkyachtclub.org
SUMMARY:DYC September Board Meeting
DESCRIPTION:
URL:https://dunkirkyachtclub.org/event/dyc-september-board-meeting/
LOCATION:Dunkirk Yacht Club\, 90 Lake Shore Dr W\, Dunkirk\, NY 14048\, Dunkirk\, NY\, 14048\, United States
END:VEVENT
BEGIN:VEVENT
DTSTART;TZID=UTC:20230916T150000
DTEND;TZID=UTC:20230916T180000
DTSTAMP:20260422T201815
CREATED:20230904T195104Z
LAST-MODIFIED:20230904T195104Z
UID:1331-1694876400-1694887200@dunkirkyachtclub.org
SUMMARY:DYC Clambake
DESCRIPTION:
URL:https://dunkirkyachtclub.org/event/dyc-clambake/
LOCATION:Dunkirk Yacht Club\, 90 Lake Shore Dr W\, Dunkirk\, NY 14048\, Dunkirk\, NY\, 14048\, United States
END:VEVENT
END:VCALENDAR