BEGIN:VCALENDAR
VERSION:2.0
PRODID:-//Dunkirk Yacht Club - ECPv6.15.20//NONSGML v1.0//EN
CALSCALE:GREGORIAN
METHOD:PUBLISH
X-WR-CALNAME:Dunkirk Yacht Club
X-ORIGINAL-URL:https://dunkirkyachtclub.org
X-WR-CALDESC:Events for Dunkirk Yacht Club
REFRESH-INTERVAL;VALUE=DURATION:PT1H
X-Robots-Tag:noindex
X-PUBLISHED-TTL:PT1H
BEGIN:VTIMEZONE
TZID:UTC
BEGIN:STANDARD
TZOFFSETFROM:+0000
TZOFFSETTO:+0000
TZNAME:UTC
DTSTART:20220101T000000
END:STANDARD
END:VTIMEZONE
BEGIN:VEVENT
DTSTART;TZID=UTC:20230520T090000
DTEND;TZID=UTC:20230520T140000
DTSTAMP:20260422T183907
CREATED:20230514T024732Z
LAST-MODIFIED:20230514T024732Z
UID:1285-1684573200-1684591200@dunkirkyachtclub.org
SUMMARY:Club Opening Work Day
DESCRIPTION:Bring tools!
URL:https://dunkirkyachtclub.org/event/club-opening-work-day/
LOCATION:Dunkirk Yacht Club\, 90 Lake Shore Dr W\, Dunkirk\, NY 14048\, Dunkirk\, NY\, 14048\, United States
END:VEVENT
BEGIN:VEVENT
DTSTART;TZID=UTC:20230509T190000
DTEND;TZID=UTC:20230509T200000
DTSTAMP:20260422T183907
CREATED:20230412T195542Z
LAST-MODIFIED:20230412T195542Z
UID:1278-1683658800-1683662400@dunkirkyachtclub.org
SUMMARY:May DYC Board Meeting
DESCRIPTION:Zoom access: \nJoin Zoom Meeting\nhttps://us02web.zoom.us/j/953193573 \nMeeting ID: 953 193 573 \nor dial in: 646 558 8656
URL:https://dunkirkyachtclub.org/event/may-dyc-board-meeting/
LOCATION:Elks Lodge 922\, 428 Central Ave.\, Dunkirk\, NY\, 14085\, United States
END:VEVENT
BEGIN:VEVENT
DTSTART;TZID=UTC:20230415T090000
DTEND;TZID=UTC:20230415T120000
DTSTAMP:20260422T183907
CREATED:20230412T194806Z
LAST-MODIFIED:20230412T194806Z
UID:1276-1681549200-1681560000@dunkirkyachtclub.org
SUMMARY:Dock Work
DESCRIPTION:Call to arms to have a work meeting this Saturday April 15th at 9:00!  This will be for fixing docks.  Be ready for some carpentry work and let’s get the docks safe before we can start planning on when to open.  Hope to see you there!  Any questions please contact Fred at Mildcatiii@gmail.com or call/text 716-673-6897
URL:https://dunkirkyachtclub.org/event/dock-work/
LOCATION:Dunkirk Yacht Club\, 90 Lake Shore Dr W\, Dunkirk\, NY 14048\, Dunkirk\, NY\, 14048\, United States
END:VEVENT
END:VCALENDAR