BEGIN:VCALENDAR
VERSION:2.0
PRODID:-//Dunkirk Yacht Club - ECPv6.15.20//NONSGML v1.0//EN
CALSCALE:GREGORIAN
METHOD:PUBLISH
X-WR-CALNAME:Dunkirk Yacht Club
X-ORIGINAL-URL:https://dunkirkyachtclub.org
X-WR-CALDESC:Events for Dunkirk Yacht Club
REFRESH-INTERVAL;VALUE=DURATION:PT1H
X-Robots-Tag:noindex
X-PUBLISHED-TTL:PT1H
BEGIN:VTIMEZONE
TZID:UTC
BEGIN:STANDARD
TZOFFSETFROM:+0000
TZOFFSETTO:+0000
TZNAME:UTC
DTSTART:20240101T000000
END:STANDARD
END:VTIMEZONE
BEGIN:VTIMEZONE
TZID:America/New_York
BEGIN:DAYLIGHT
TZOFFSETFROM:-0500
TZOFFSETTO:-0400
TZNAME:EDT
DTSTART:20250309T070000
END:DAYLIGHT
BEGIN:STANDARD
TZOFFSETFROM:-0400
TZOFFSETTO:-0500
TZNAME:EST
DTSTART:20251102T060000
END:STANDARD
BEGIN:DAYLIGHT
TZOFFSETFROM:-0500
TZOFFSETTO:-0400
TZNAME:EDT
DTSTART:20260308T070000
END:DAYLIGHT
BEGIN:STANDARD
TZOFFSETFROM:-0400
TZOFFSETTO:-0500
TZNAME:EST
DTSTART:20261101T060000
END:STANDARD
BEGIN:DAYLIGHT
TZOFFSETFROM:-0500
TZOFFSETTO:-0400
TZNAME:EDT
DTSTART:20270314T070000
END:DAYLIGHT
BEGIN:STANDARD
TZOFFSETFROM:-0400
TZOFFSETTO:-0500
TZNAME:EST
DTSTART:20271107T060000
END:STANDARD
END:VTIMEZONE
BEGIN:VTIMEZONE
TZID:America/New_York
BEGIN:DAYLIGHT
TZOFFSETFROM:-0500
TZOFFSETTO:-0400
TZNAME:EDT
DTSTART:20250309T070000
END:DAYLIGHT
BEGIN:STANDARD
TZOFFSETFROM:-0400
TZOFFSETTO:-0500
TZNAME:EST
DTSTART:20251102T060000
END:STANDARD
BEGIN:DAYLIGHT
TZOFFSETFROM:-0500
TZOFFSETTO:-0400
TZNAME:EDT
DTSTART:20260308T070000
END:DAYLIGHT
BEGIN:STANDARD
TZOFFSETFROM:-0400
TZOFFSETTO:-0500
TZNAME:EST
DTSTART:20261101T060000
END:STANDARD
BEGIN:DAYLIGHT
TZOFFSETFROM:-0500
TZOFFSETTO:-0400
TZNAME:EDT
DTSTART:20270314T070000
END:DAYLIGHT
BEGIN:STANDARD
TZOFFSETFROM:-0400
TZOFFSETTO:-0500
TZNAME:EST
DTSTART:20271107T060000
END:STANDARD
END:VTIMEZONE
BEGIN:VEVENT
DTSTART;TZID=UTC:20250623T000000
DTEND;TZID=UTC:20250623T000000
DTSTAMP:20260422T175447
CREATED:20250516T200403Z
LAST-MODIFIED:20250516T200403Z
UID:1560-1750636800-1750636800@dunkirkyachtclub.org
SUMMARY:New Member Orientation
DESCRIPTION:
URL:https://dunkirkyachtclub.org/event/new-member-orientation-2/
LOCATION:Dunkirk Yacht Club\, 90 Lake Shore Dr W\, Dunkirk\, NY 14048\, Dunkirk\, NY\, 14048\, United States
END:VEVENT
BEGIN:VEVENT
DTSTART;TZID=UTC:20250628T090000
DTEND;TZID=UTC:20250628T170000
DTSTAMP:20260422T175447
CREATED:20250516T203114Z
LAST-MODIFIED:20250516T203114Z
UID:1587-1751101200-1751130000@dunkirkyachtclub.org
SUMMARY:DYC Poker Run
DESCRIPTION:
URL:https://dunkirkyachtclub.org/event/dyc-poker-run/
END:VEVENT
BEGIN:VEVENT
DTSTART;TZID=UTC:20250704T000000
DTEND;TZID=UTC:20250704T000000
DTSTAMP:20260422T175447
CREATED:20250516T200519Z
LAST-MODIFIED:20250516T200519Z
UID:1562-1751587200-1751587200@dunkirkyachtclub.org
SUMMARY:Independence Day Party
DESCRIPTION:
URL:https://dunkirkyachtclub.org/event/independence-day-party-2/
END:VEVENT
BEGIN:VEVENT
DTSTART;TZID=UTC:20250705T113000
DTEND;TZID=UTC:20250705T170000
DTSTAMP:20260422T175447
CREATED:20250516T201410Z
LAST-MODIFIED:20250611T021143Z
UID:1576-1751715000-1751734800@dunkirkyachtclub.org
SUMMARY:Day at Sunset Bay
DESCRIPTION:
URL:https://dunkirkyachtclub.org/event/day-at-sunset-bay/
END:VEVENT
BEGIN:VEVENT
DTSTART;TZID=UTC:20250713T160000
DTEND;TZID=UTC:20250713T170000
DTSTAMP:20260422T175447
CREATED:20250516T203157Z
LAST-MODIFIED:20250516T203157Z
UID:1589-1752422400-1752426000@dunkirkyachtclub.org
SUMMARY:Main Street Beach Party
DESCRIPTION:
URL:https://dunkirkyachtclub.org/event/main-street-beach-party/
END:VEVENT
BEGIN:VEVENT
DTSTART;TZID=UTC:20250726T000000
DTEND;TZID=UTC:20250726T000000
DTSTAMP:20260422T175447
CREATED:20250516T200548Z
LAST-MODIFIED:20250516T200602Z
UID:1564-1753488000-1753488000@dunkirkyachtclub.org
SUMMARY:Commodore’s Party
DESCRIPTION:
URL:https://dunkirkyachtclub.org/event/commodores-party/
END:VEVENT
BEGIN:VEVENT
DTSTART;TZID=UTC:20250802T080000
DTEND;TZID=UTC:20250802T170000
DTSTAMP:20260422T175447
CREATED:20250516T203220Z
LAST-MODIFIED:20250516T203220Z
UID:1591-1754121600-1754154000@dunkirkyachtclub.org
SUMMARY:Barcelona Trip
DESCRIPTION:
URL:https://dunkirkyachtclub.org/event/barcelona-trip/
END:VEVENT
BEGIN:VEVENT
DTSTART;TZID=UTC:20250810T080000
DTEND;TZID=UTC:20250810T170000
DTSTAMP:20260422T175447
CREATED:20250516T203253Z
LAST-MODIFIED:20250516T203253Z
UID:1593-1754812800-1754845200@dunkirkyachtclub.org
SUMMARY:Coastal Sailboat Race
DESCRIPTION:
URL:https://dunkirkyachtclub.org/event/coastal-sailboat-race-2/
LOCATION:Dunkirk Yacht Club\, 90 Lake Shore Dr W\, Dunkirk\, NY 14048\, Dunkirk\, NY\, 14048\, United States
END:VEVENT
BEGIN:VEVENT
DTSTART;TZID=UTC:20250829T173000
DTEND;TZID=UTC:20250829T210000
DTSTAMP:20260422T175447
CREATED:20250826T060612Z
LAST-MODIFIED:20250826T060612Z
UID:1654-1756488600-1756501200@dunkirkyachtclub.org
SUMMARY:Friday Maui Party
DESCRIPTION:
URL:https://dunkirkyachtclub.org/event/friday-maui-party/
LOCATION:Dunkirk Yacht Club\, 90 Lake Shore Dr W\, Dunkirk\, NY 14048\, Dunkirk\, NY\, 14048\, United States
END:VEVENT
BEGIN:VEVENT
DTSTART;TZID=UTC:20250831T100000
DTEND;TZID=UTC:20250831T150000
DTSTAMP:20260422T175447
CREATED:20250820T045332Z
LAST-MODIFIED:20250820T045332Z
UID:1641-1756634400-1756652400@dunkirkyachtclub.org
SUMMARY:Labor Day Sailboat Race
DESCRIPTION:
URL:https://dunkirkyachtclub.org/event/labor-day-sailboat-race/
LOCATION:Dunkirk Yacht Club\, 90 Lake Shore Dr W\, Dunkirk\, NY 14048\, Dunkirk\, NY\, 14048\, United States
END:VEVENT
BEGIN:VEVENT
DTSTART;TZID=UTC:20250831T160000
DTEND;TZID=UTC:20250831T210000
DTSTAMP:20260422T175447
CREATED:20250516T200625Z
LAST-MODIFIED:20250826T060757Z
UID:1566-1756656000-1756674000@dunkirkyachtclub.org
SUMMARY:Labor Day Party
DESCRIPTION:
URL:https://dunkirkyachtclub.org/event/labor-day-party/
END:VEVENT
BEGIN:VEVENT
DTSTART;TZID=UTC:20250913T160000
DTEND;TZID=UTC:20250913T190000
DTSTAMP:20260422T175447
CREATED:20250516T200730Z
LAST-MODIFIED:20250906T223810Z
UID:1568-1757779200-1757790000@dunkirkyachtclub.org
SUMMARY:Clambake
DESCRIPTION:
URL:https://dunkirkyachtclub.org/event/clambake-2/
LOCATION:Dunkirk Yacht Club\, 90 Lake Shore Dr W\, Dunkirk\, NY 14048\, Dunkirk\, NY\, 14048\, United States
END:VEVENT
BEGIN:VEVENT
DTSTART;TZID=UTC:20251004T000000
DTEND;TZID=UTC:20251004T000000
DTSTAMP:20260422T175447
CREATED:20250516T200801Z
LAST-MODIFIED:20250516T200801Z
UID:1570-1759536000-1759536000@dunkirkyachtclub.org
SUMMARY:Die-Hard/Chili Cook-Off
DESCRIPTION:
URL:https://dunkirkyachtclub.org/event/die-hard-chili-cook-off/
END:VEVENT
BEGIN:VEVENT
DTSTART;TZID=UTC:20251004T090000
DTEND;TZID=UTC:20251004T163000
DTSTAMP:20260422T175447
CREATED:20250829T224139Z
LAST-MODIFIED:20250829T224139Z
UID:1659-1759568400-1759595400@dunkirkyachtclub.org
SUMMARY:DYC Golf Tournament
DESCRIPTION:  DYC First annual Golf Tournament……..\n\n              Saturday October 4th TEE OFF 9:00 am SHARP….. Golf will be a Scramble Tournament .\n                        All Teams for scramble will consist of Members of the club and Guest.\n                        DYC Member can invite one non-member guest per cart.\n              Price per person will be $75 to be paid by September 20th. If you can not get a check to the club we can set up Venmo for you.\n              Make checks out to : DYC – write on check memo line Golf Tournament\n\n                          Individual Prizes :\n                                                      Longest Drive\n                                                      Closest  to the pin\n                                                      Longest Happy Gilmore\n                                Going to need 6 assistants at the course….. ( volunteer \, come have some fun ! )\n\n                           Team Prizes :\n                                               Highest Score\n                                               Lowest Score\n                                               We will have a 50/50 while on the course\n                                               Mulligan Balls…..per person will cost $5.00 cash prior to starting (limit two per person \, one ball per nine holes)\n\n                        Charley has been working hard on this to make it a great time \,\,\,\,DYC Balls etc…..\n                         Hope to see lots of sign ups for lots of fun……( and maybe some competition ! )
URL:https://dunkirkyachtclub.org/event/dyc-golf-tournament/
LOCATION:The Vinyards Golf Course\, 4696 Berry Rd\, Fredonia\, NY\, 14063
END:VEVENT
BEGIN:VEVENT
DTSTART;TZID=UTC:20251014T190000
DTEND;TZID=UTC:20251014T203000
DTSTAMP:20260422T175447
CREATED:20250910T055236Z
LAST-MODIFIED:20250910T055236Z
UID:1669-1760468400-1760473800@dunkirkyachtclub.org
SUMMARY:October '25 Board Meeting
DESCRIPTION:
URL:https://dunkirkyachtclub.org/event/october-25-board-meeting/
LOCATION:Dunkirk Yacht Club\, 90 Lake Shore Dr W\, Dunkirk\, NY 14048\, Dunkirk\, NY\, 14048\, United States
END:VEVENT
BEGIN:VEVENT
DTSTART;TZID=UTC:20251025T190000
DTEND;TZID=UTC:20251025T210000
DTSTAMP:20260422T175447
CREATED:20250516T200833Z
LAST-MODIFIED:20250925T211252Z
UID:1572-1761418800-1761426000@dunkirkyachtclub.org
SUMMARY:Halloween Party (OFFSITE)
DESCRIPTION:
URL:https://dunkirkyachtclub.org/event/halloween-party-offsite/
LOCATION:Goombas\, 44 Orchard St.\, Fredonia\, NY
END:VEVENT
BEGIN:VEVENT
DTSTART;TZID=UTC:20251101T130000
DTEND;TZID=UTC:20251101T150000
DTSTAMP:20260422T175447
CREATED:20250911T221321Z
LAST-MODIFIED:20250911T221321Z
UID:1672-1762002000-1762009200@dunkirkyachtclub.org
SUMMARY:DYC Annual Meeting
DESCRIPTION:
URL:https://dunkirkyachtclub.org/event/dyc-annual-meeting-2/
LOCATION:Elks Lodge 922\, 428 Central Ave.\, Dunkirk\, NY\, 14085\, United States
END:VEVENT
BEGIN:VEVENT
DTSTART;TZID=UTC:20251101T170000
DTEND;TZID=UTC:20251101T210000
DTSTAMP:20260422T175447
CREATED:20250516T200941Z
LAST-MODIFIED:20250911T221155Z
UID:1574-1762016400-1762030800@dunkirkyachtclub.org
SUMMARY:Fall Banquet (Shorewood CC)
DESCRIPTION:5:00 p.m. Cocktails \n6:00 p.m. Dinner
URL:https://dunkirkyachtclub.org/event/fall-banquet-shorewood-cc/
LOCATION:Shorewood Country Club\, 4958 W Lake Rd\, Dunkirk\, NY\, 14085\, United States
END:VEVENT
BEGIN:VEVENT
DTSTART;TZID=America/New_York:20260113T190000
DTEND;TZID=America/New_York:20260113T200000
DTSTAMP:20260422T175447
CREATED:20251114T032934Z
LAST-MODIFIED:20251114T032934Z
UID:1716-1768330800-1768334400@dunkirkyachtclub.org
SUMMARY:Jan '26 Board Meeting
DESCRIPTION:
URL:https://dunkirkyachtclub.org/event/jan-26-board-meeting/
LOCATION:Elks Lodge 922\, 428 Central Ave.\, Dunkirk\, NY\, 14085\, United States
END:VEVENT
BEGIN:VEVENT
DTSTART;TZID=America/New_York:20260210T190000
DTEND;TZID=America/New_York:20260210T200000
DTSTAMP:20260422T175447
CREATED:20260203T050637Z
LAST-MODIFIED:20260203T050637Z
UID:1754-1770750000-1770753600@dunkirkyachtclub.org
SUMMARY:DYC Board Meeting
DESCRIPTION:DYC Board Meeting – in-person & virtual \nDYC Members welcome.  Non-members welcome through an invitation from a Board Member. \nMembers will receive an email to attend a couple weeks in advance. \n 
URL:https://dunkirkyachtclub.org/event/dyc-board-meeting/
LOCATION:Elks Lodge 922\, 428 Central Ave.\, Dunkirk\, NY\, 14085\, United States
CATEGORIES:DYC Events,Events of Interest
ORGANIZER;CN="George Burns":MAILTO:gburns@marportsecurity.net
END:VEVENT
BEGIN:VEVENT
DTSTART;TZID=America/New_York:20260310T190000
DTEND;TZID=America/New_York:20260310T200000
DTSTAMP:20260422T175447
CREATED:20260203T050900Z
LAST-MODIFIED:20260203T050900Z
UID:1756-1773169200-1773172800@dunkirkyachtclub.org
SUMMARY:DYC Board Meeting
DESCRIPTION:DYC Board Meeting – in-person & virtual \nDYC Members welcome.  Non-members welcome through an invitation from a Board Member. \nMembers will receive an email to attend a couple weeks in advance.
URL:https://dunkirkyachtclub.org/event/dyc-board-meeting-2/
LOCATION:Elks Lodge 922\, 428 Central Ave.\, Dunkirk\, NY\, 14085\, United States
CATEGORIES:DYC Events,Events of Interest
ORGANIZER;CN="George Burns":MAILTO:gburns@marportsecurity.net
END:VEVENT
BEGIN:VEVENT
DTSTART;TZID=America/New_York:20260414T190000
DTEND;TZID=America/New_York:20260414T200000
DTSTAMP:20260422T175447
CREATED:20260203T051000Z
LAST-MODIFIED:20260203T051324Z
UID:1758-1776193200-1776196800@dunkirkyachtclub.org
SUMMARY:DYC Board Meeting
DESCRIPTION:DYC Board Meeting – in-person & virtual \nDYC Members welcome.  Non-members welcome through an invitation from a Board Member. \nMembers will receive an email to attend a couple weeks in advance.
URL:https://dunkirkyachtclub.org/event/dyc-board-meeting-3/
LOCATION:Elks Lodge 922\, 428 Central Ave.\, Dunkirk\, NY\, 14085\, United States
CATEGORIES:DYC Events,Events of Interest
ORGANIZER;CN="George Burns":MAILTO:gburns@marportsecurity.net
END:VEVENT
BEGIN:VEVENT
DTSTART;VALUE=DATE:20260502
DTEND;VALUE=DATE:20260503
DTSTAMP:20260422T175447
CREATED:20260415T003112Z
LAST-MODIFIED:20260415T003112Z
UID:1831-1777680000-1777766399@dunkirkyachtclub.org
SUMMARY:Tentative Club Opening
DESCRIPTION:
URL:https://dunkirkyachtclub.org/event/tentative-club-opening/
LOCATION:Dunkirk Yacht Club\, 90 Lake Shore Dr W\, Dunkirk\, NY 14048\, Dunkirk\, NY\, 14048\, United States
CATEGORIES:DYC Events,Events of Interest
END:VEVENT
BEGIN:VEVENT
DTSTART;TZID=America/New_York:20260502T180000
DTEND;TZID=America/New_York:20260502T213000
DTSTAMP:20260422T175447
CREATED:20260422T013357Z
LAST-MODIFIED:20260422T013357Z
UID:1868-1777744800-1777757400@dunkirkyachtclub.org
SUMMARY:Yacht Club Opening Day Celebration
DESCRIPTION:Flyer in April Newsletter in your email.  Check your spam folders if not seeing it \n6pm – bring a dish to pass \n 
URL:https://dunkirkyachtclub.org/event/yacht-club-opening-day-celebration/
LOCATION:Dunkirk Yacht Club\, 90 Lake Shore Dr W\, Dunkirk\, NY 14048\, Dunkirk\, NY\, 14048\, United States
CATEGORIES:DYC Events,Events of Interest
END:VEVENT
BEGIN:VEVENT
DTSTART;TZID=America/New_York:20260512T190000
DTEND;TZID=America/New_York:20260512T200000
DTSTAMP:20260422T175447
CREATED:20260203T051110Z
LAST-MODIFIED:20260203T051110Z
UID:1760-1778612400-1778616000@dunkirkyachtclub.org
SUMMARY:DYC Board Meeting
DESCRIPTION:DYC Board Meeting – in-person & virtual \nDYC Members welcome.  Non-members welcome through an invitation from a Board Member. \nMembers will receive an email to attend a couple weeks in advance.
URL:https://dunkirkyachtclub.org/event/dyc-board-meeting-4/
LOCATION:Dunkirk Yacht Club\, 90 Lake Shore Dr W\, Dunkirk\, NY 14048\, Dunkirk\, NY\, 14048\, United States
CATEGORIES:DYC Events,Events of Interest
ORGANIZER;CN="George Burns":MAILTO:gburns@marportsecurity.net
END:VEVENT
BEGIN:VEVENT
DTSTART;TZID=UTC:20260524T160000
DTEND;TZID=UTC:20260524T235900
DTSTAMP:20260422T175447
CREATED:20260311T054250Z
LAST-MODIFIED:20260422T014800Z
UID:1791-1779638400-1779667140@dunkirkyachtclub.org
SUMMARY:Memorial Day Party
DESCRIPTION:Details via April newsletter &/or private FB page \n  \n  \n  \n 
URL:https://dunkirkyachtclub.org/event/memorial-day-party-2/
LOCATION:Dunkirk Yacht Club\, 90 Lake Shore Dr W\, Dunkirk\, NY 14048\, Dunkirk\, NY\, 14048\, United States
CATEGORIES:DYC Events,Events of Interest
END:VEVENT
BEGIN:VEVENT
DTSTART;TZID=America/New_York:20260609T190000
DTEND;TZID=America/New_York:20260609T200000
DTSTAMP:20260422T175447
CREATED:20260203T051217Z
LAST-MODIFIED:20260203T051217Z
UID:1762-1781031600-1781035200@dunkirkyachtclub.org
SUMMARY:DYC Board Meeting
DESCRIPTION:DYC Board Meeting – in-person & virtual \nDYC Members welcome.  Non-members welcome through an invitation from a Board Member. \nMembers will receive an email to attend a couple weeks in advance.
URL:https://dunkirkyachtclub.org/event/dyc-board-meeting-5/
LOCATION:Dunkirk Yacht Club\, 90 Lake Shore Dr W\, Dunkirk\, NY 14048\, Dunkirk\, NY\, 14048\, United States
CATEGORIES:DYC Events,Events of Interest
ORGANIZER;CN="George Burns":MAILTO:gburns@marportsecurity.net
END:VEVENT
BEGIN:VEVENT
DTSTART;VALUE=DATE:20260620
DTEND;VALUE=DATE:20260621
DTSTAMP:20260422T175447
CREATED:20260415T002651Z
LAST-MODIFIED:20260415T002651Z
UID:1828-1781913600-1781999999@dunkirkyachtclub.org
SUMMARY:New Member Orientation
DESCRIPTION:Time TBD
URL:https://dunkirkyachtclub.org/event/new-member-orientation-3/
LOCATION:Dunkirk Yacht Club\, 90 Lake Shore Dr W\, Dunkirk\, NY 14048\, Dunkirk\, NY\, 14048\, United States
CATEGORIES:DYC Events,Events of Interest
END:VEVENT
BEGIN:VEVENT
DTSTART;VALUE=DATE:20260620
DTEND;VALUE=DATE:20260621
DTSTAMP:20260422T175447
CREATED:20260415T003256Z
LAST-MODIFIED:20260415T003256Z
UID:1834-1781913600-1781999999@dunkirkyachtclub.org
SUMMARY:Sunset Bay Sail & Hangout
DESCRIPTION:Details via upcoming newsletter &/or private FB page
URL:https://dunkirkyachtclub.org/event/sunset-bay-sail-hangout/
CATEGORIES:DYC Events,Events of Interest
END:VEVENT
BEGIN:VEVENT
DTSTART;VALUE=DATE:20260627
DTEND;VALUE=DATE:20260628
DTSTAMP:20260422T175447
CREATED:20260415T003402Z
LAST-MODIFIED:20260415T003402Z
UID:1837-1782518400-1782604799@dunkirkyachtclub.org
SUMMARY:Poker Run
DESCRIPTION:Details via upcoming newsletter &/or private FB page
URL:https://dunkirkyachtclub.org/event/poker-run-2/
LOCATION:Dunkirk Yacht Club\, 90 Lake Shore Dr W\, Dunkirk\, NY 14048\, Dunkirk\, NY\, 14048\, United States
CATEGORIES:DYC Events,Events of Interest
END:VEVENT
END:VCALENDAR