BEGIN:VCALENDAR
VERSION:2.0
PRODID:-//Dunkirk Yacht Club - ECPv6.15.20//NONSGML v1.0//EN
CALSCALE:GREGORIAN
METHOD:PUBLISH
X-ORIGINAL-URL:https://dunkirkyachtclub.org
X-WR-CALDESC:Events for Dunkirk Yacht Club
REFRESH-INTERVAL;VALUE=DURATION:PT1H
X-Robots-Tag:noindex
X-PUBLISHED-TTL:PT1H
BEGIN:VTIMEZONE
TZID:America/New_York
BEGIN:DAYLIGHT
TZOFFSETFROM:-0500
TZOFFSETTO:-0400
TZNAME:EDT
DTSTART:20250309T070000
END:DAYLIGHT
BEGIN:STANDARD
TZOFFSETFROM:-0400
TZOFFSETTO:-0500
TZNAME:EST
DTSTART:20251102T060000
END:STANDARD
BEGIN:DAYLIGHT
TZOFFSETFROM:-0500
TZOFFSETTO:-0400
TZNAME:EDT
DTSTART:20260308T070000
END:DAYLIGHT
BEGIN:STANDARD
TZOFFSETFROM:-0400
TZOFFSETTO:-0500
TZNAME:EST
DTSTART:20261101T060000
END:STANDARD
BEGIN:DAYLIGHT
TZOFFSETFROM:-0500
TZOFFSETTO:-0400
TZNAME:EDT
DTSTART:20270314T070000
END:DAYLIGHT
BEGIN:STANDARD
TZOFFSETFROM:-0400
TZOFFSETTO:-0500
TZNAME:EST
DTSTART:20271107T060000
END:STANDARD
END:VTIMEZONE
BEGIN:VTIMEZONE
TZID:America/New_York
BEGIN:DAYLIGHT
TZOFFSETFROM:-0500
TZOFFSETTO:-0400
TZNAME:EDT
DTSTART:20250309T070000
END:DAYLIGHT
BEGIN:STANDARD
TZOFFSETFROM:-0400
TZOFFSETTO:-0500
TZNAME:EST
DTSTART:20251102T060000
END:STANDARD
BEGIN:DAYLIGHT
TZOFFSETFROM:-0500
TZOFFSETTO:-0400
TZNAME:EDT
DTSTART:20260308T070000
END:DAYLIGHT
BEGIN:STANDARD
TZOFFSETFROM:-0400
TZOFFSETTO:-0500
TZNAME:EST
DTSTART:20261101T060000
END:STANDARD
BEGIN:DAYLIGHT
TZOFFSETFROM:-0500
TZOFFSETTO:-0400
TZNAME:EDT
DTSTART:20270314T070000
END:DAYLIGHT
BEGIN:STANDARD
TZOFFSETFROM:-0400
TZOFFSETTO:-0500
TZNAME:EST
DTSTART:20271107T060000
END:STANDARD
END:VTIMEZONE
BEGIN:VTIMEZONE
TZID:UTC
BEGIN:STANDARD
TZOFFSETFROM:+0000
TZOFFSETTO:+0000
TZNAME:UTC
DTSTART:20250101T000000
END:STANDARD
END:VTIMEZONE
BEGIN:VEVENT
DTSTART;TZID=America/New_York:20260113T190000
DTEND;TZID=America/New_York:20260113T200000
DTSTAMP:20260422T190336
CREATED:20251114T032934Z
LAST-MODIFIED:20251114T032934Z
UID:1716-1768330800-1768334400@dunkirkyachtclub.org
SUMMARY:Jan '26 Board Meeting
DESCRIPTION:
URL:https://dunkirkyachtclub.org/event/jan-26-board-meeting/
LOCATION:Elks Lodge 922\, 428 Central Ave.\, Dunkirk\, NY\, 14085\, United States
END:VEVENT
BEGIN:VEVENT
DTSTART;TZID=America/New_York:20260210T190000
DTEND;TZID=America/New_York:20260210T200000
DTSTAMP:20260422T190336
CREATED:20260203T050637Z
LAST-MODIFIED:20260203T050637Z
UID:1754-1770750000-1770753600@dunkirkyachtclub.org
SUMMARY:DYC Board Meeting
DESCRIPTION:DYC Board Meeting – in-person & virtual \nDYC Members welcome.  Non-members welcome through an invitation from a Board Member. \nMembers will receive an email to attend a couple weeks in advance. \n 
URL:https://dunkirkyachtclub.org/event/dyc-board-meeting/
LOCATION:Elks Lodge 922\, 428 Central Ave.\, Dunkirk\, NY\, 14085\, United States
CATEGORIES:DYC Events,Events of Interest
ORGANIZER;CN="George Burns":MAILTO:gburns@marportsecurity.net
END:VEVENT
BEGIN:VEVENT
DTSTART;TZID=America/New_York:20260310T190000
DTEND;TZID=America/New_York:20260310T200000
DTSTAMP:20260422T190336
CREATED:20260203T050900Z
LAST-MODIFIED:20260203T050900Z
UID:1756-1773169200-1773172800@dunkirkyachtclub.org
SUMMARY:DYC Board Meeting
DESCRIPTION:DYC Board Meeting – in-person & virtual \nDYC Members welcome.  Non-members welcome through an invitation from a Board Member. \nMembers will receive an email to attend a couple weeks in advance.
URL:https://dunkirkyachtclub.org/event/dyc-board-meeting-2/
LOCATION:Elks Lodge 922\, 428 Central Ave.\, Dunkirk\, NY\, 14085\, United States
CATEGORIES:DYC Events,Events of Interest
ORGANIZER;CN="George Burns":MAILTO:gburns@marportsecurity.net
END:VEVENT
BEGIN:VEVENT
DTSTART;TZID=America/New_York:20260414T190000
DTEND;TZID=America/New_York:20260414T200000
DTSTAMP:20260422T190336
CREATED:20260203T051000Z
LAST-MODIFIED:20260203T051324Z
UID:1758-1776193200-1776196800@dunkirkyachtclub.org
SUMMARY:DYC Board Meeting
DESCRIPTION:DYC Board Meeting – in-person & virtual \nDYC Members welcome.  Non-members welcome through an invitation from a Board Member. \nMembers will receive an email to attend a couple weeks in advance.
URL:https://dunkirkyachtclub.org/event/dyc-board-meeting-3/
LOCATION:Elks Lodge 922\, 428 Central Ave.\, Dunkirk\, NY\, 14085\, United States
CATEGORIES:DYC Events,Events of Interest
ORGANIZER;CN="George Burns":MAILTO:gburns@marportsecurity.net
END:VEVENT
BEGIN:VEVENT
DTSTART;VALUE=DATE:20260502
DTEND;VALUE=DATE:20260503
DTSTAMP:20260422T190336
CREATED:20260415T003112Z
LAST-MODIFIED:20260415T003112Z
UID:1831-1777680000-1777766399@dunkirkyachtclub.org
SUMMARY:Tentative Club Opening
DESCRIPTION:
URL:https://dunkirkyachtclub.org/event/tentative-club-opening/
LOCATION:Dunkirk Yacht Club\, 90 Lake Shore Dr W\, Dunkirk\, NY 14048\, Dunkirk\, NY\, 14048\, United States
CATEGORIES:DYC Events,Events of Interest
END:VEVENT
BEGIN:VEVENT
DTSTART;TZID=America/New_York:20260502T180000
DTEND;TZID=America/New_York:20260502T213000
DTSTAMP:20260422T190336
CREATED:20260422T013357Z
LAST-MODIFIED:20260422T013357Z
UID:1868-1777744800-1777757400@dunkirkyachtclub.org
SUMMARY:Yacht Club Opening Day Celebration
DESCRIPTION:Flyer in April Newsletter in your email.  Check your spam folders if not seeing it \n6pm – bring a dish to pass \n 
URL:https://dunkirkyachtclub.org/event/yacht-club-opening-day-celebration/
LOCATION:Dunkirk Yacht Club\, 90 Lake Shore Dr W\, Dunkirk\, NY 14048\, Dunkirk\, NY\, 14048\, United States
CATEGORIES:DYC Events,Events of Interest
END:VEVENT
BEGIN:VEVENT
DTSTART;TZID=America/New_York:20260512T190000
DTEND;TZID=America/New_York:20260512T200000
DTSTAMP:20260422T190336
CREATED:20260203T051110Z
LAST-MODIFIED:20260203T051110Z
UID:1760-1778612400-1778616000@dunkirkyachtclub.org
SUMMARY:DYC Board Meeting
DESCRIPTION:DYC Board Meeting – in-person & virtual \nDYC Members welcome.  Non-members welcome through an invitation from a Board Member. \nMembers will receive an email to attend a couple weeks in advance.
URL:https://dunkirkyachtclub.org/event/dyc-board-meeting-4/
LOCATION:Dunkirk Yacht Club\, 90 Lake Shore Dr W\, Dunkirk\, NY 14048\, Dunkirk\, NY\, 14048\, United States
CATEGORIES:DYC Events,Events of Interest
ORGANIZER;CN="George Burns":MAILTO:gburns@marportsecurity.net
END:VEVENT
BEGIN:VEVENT
DTSTART;TZID=UTC:20260524T160000
DTEND;TZID=UTC:20260524T235900
DTSTAMP:20260422T190336
CREATED:20260311T054250Z
LAST-MODIFIED:20260422T014800Z
UID:1791-1779638400-1779667140@dunkirkyachtclub.org
SUMMARY:Memorial Day Party
DESCRIPTION:Details via April newsletter &/or private FB page \n  \n  \n  \n 
URL:https://dunkirkyachtclub.org/event/memorial-day-party-2/
LOCATION:Dunkirk Yacht Club\, 90 Lake Shore Dr W\, Dunkirk\, NY 14048\, Dunkirk\, NY\, 14048\, United States
CATEGORIES:DYC Events,Events of Interest
END:VEVENT
BEGIN:VEVENT
DTSTART;TZID=America/New_York:20260609T190000
DTEND;TZID=America/New_York:20260609T200000
DTSTAMP:20260422T190336
CREATED:20260203T051217Z
LAST-MODIFIED:20260203T051217Z
UID:1762-1781031600-1781035200@dunkirkyachtclub.org
SUMMARY:DYC Board Meeting
DESCRIPTION:DYC Board Meeting – in-person & virtual \nDYC Members welcome.  Non-members welcome through an invitation from a Board Member. \nMembers will receive an email to attend a couple weeks in advance.
URL:https://dunkirkyachtclub.org/event/dyc-board-meeting-5/
LOCATION:Dunkirk Yacht Club\, 90 Lake Shore Dr W\, Dunkirk\, NY 14048\, Dunkirk\, NY\, 14048\, United States
CATEGORIES:DYC Events,Events of Interest
ORGANIZER;CN="George Burns":MAILTO:gburns@marportsecurity.net
END:VEVENT
BEGIN:VEVENT
DTSTART;VALUE=DATE:20260620
DTEND;VALUE=DATE:20260621
DTSTAMP:20260422T190336
CREATED:20260415T002651Z
LAST-MODIFIED:20260415T002651Z
UID:1828-1781913600-1781999999@dunkirkyachtclub.org
SUMMARY:New Member Orientation
DESCRIPTION:Time TBD
URL:https://dunkirkyachtclub.org/event/new-member-orientation-3/
LOCATION:Dunkirk Yacht Club\, 90 Lake Shore Dr W\, Dunkirk\, NY 14048\, Dunkirk\, NY\, 14048\, United States
CATEGORIES:DYC Events,Events of Interest
END:VEVENT
BEGIN:VEVENT
DTSTART;VALUE=DATE:20260620
DTEND;VALUE=DATE:20260621
DTSTAMP:20260422T190336
CREATED:20260415T003256Z
LAST-MODIFIED:20260415T003256Z
UID:1834-1781913600-1781999999@dunkirkyachtclub.org
SUMMARY:Sunset Bay Sail & Hangout
DESCRIPTION:Details via upcoming newsletter &/or private FB page
URL:https://dunkirkyachtclub.org/event/sunset-bay-sail-hangout/
CATEGORIES:DYC Events,Events of Interest
END:VEVENT
BEGIN:VEVENT
DTSTART;VALUE=DATE:20260627
DTEND;VALUE=DATE:20260628
DTSTAMP:20260422T190336
CREATED:20260415T003402Z
LAST-MODIFIED:20260415T003402Z
UID:1837-1782518400-1782604799@dunkirkyachtclub.org
SUMMARY:Poker Run
DESCRIPTION:Details via upcoming newsletter &/or private FB page
URL:https://dunkirkyachtclub.org/event/poker-run-2/
LOCATION:Dunkirk Yacht Club\, 90 Lake Shore Dr W\, Dunkirk\, NY 14048\, Dunkirk\, NY\, 14048\, United States
CATEGORIES:DYC Events,Events of Interest
END:VEVENT
BEGIN:VEVENT
DTSTART;VALUE=DATE:20260704
DTEND;VALUE=DATE:20260705
DTSTAMP:20260422T190336
CREATED:20260311T054337Z
LAST-MODIFIED:20260311T054610Z
UID:1793-1783123200-1783209599@dunkirkyachtclub.org
SUMMARY:4th of July Party
DESCRIPTION:Details & Timing TBD
URL:https://dunkirkyachtclub.org/event/4th-of-july-party/
LOCATION:Dunkirk Yacht Club\, 90 Lake Shore Dr W\, Dunkirk\, NY 14048\, Dunkirk\, NY\, 14048\, United States
CATEGORIES:DYC Events,Events of Interest
END:VEVENT
BEGIN:VEVENT
DTSTART;VALUE=DATE:20260705
DTEND;VALUE=DATE:20260706
DTSTAMP:20260422T190336
CREATED:20260415T003452Z
LAST-MODIFIED:20260415T012913Z
UID:1839-1783209600-1783295999@dunkirkyachtclub.org
SUMMARY:Main Street Beach Party
DESCRIPTION:Details via upcoming newsletter &/or private FB page
URL:https://dunkirkyachtclub.org/event/main-street-beach-party-2/
LOCATION:Dunkirk Yacht Club\, 90 Lake Shore Dr W\, Dunkirk\, NY 14048\, Dunkirk\, NY\, 14048\, United States
CATEGORIES:DYC Events,Events of Interest
END:VEVENT
BEGIN:VEVENT
DTSTART;VALUE=DATE:20260711
DTEND;VALUE=DATE:20260712
DTSTAMP:20260422T190336
CREATED:20260415T013055Z
LAST-MODIFIED:20260415T013055Z
UID:1843-1783728000-1783814399@dunkirkyachtclub.org
SUMMARY:Test Your Navigation Skills
DESCRIPTION:Details via upcoming newsletter &/or private FB page
URL:https://dunkirkyachtclub.org/event/test-your-navigation-skills/
LOCATION:Dunkirk Yacht Club\, 90 Lake Shore Dr W\, Dunkirk\, NY 14048\, Dunkirk\, NY\, 14048\, United States
CATEGORIES:DYC Events,Events of Interest
END:VEVENT
BEGIN:VEVENT
DTSTART;VALUE=DATE:20260712
DTEND;VALUE=DATE:20260713
DTSTAMP:20260422T190336
CREATED:20260415T013031Z
LAST-MODIFIED:20260415T013031Z
UID:1845-1783814400-1783900799@dunkirkyachtclub.org
SUMMARY:Problems & Solutions Meetup
DESCRIPTION:Details via upcoming newsletter &/or private FB page
URL:https://dunkirkyachtclub.org/event/problems-solutions-meetup/
LOCATION:Dunkirk Yacht Club\, 90 Lake Shore Dr W\, Dunkirk\, NY 14048\, Dunkirk\, NY\, 14048\, United States
CATEGORIES:DYC Events,Events of Interest
END:VEVENT
BEGIN:VEVENT
DTSTART;TZID=America/New_York:20260714T190000
DTEND;TZID=America/New_York:20260714T200000
DTSTAMP:20260422T190336
CREATED:20260203T051423Z
LAST-MODIFIED:20260203T051423Z
UID:1764-1784055600-1784059200@dunkirkyachtclub.org
SUMMARY:DYC Board Meeting
DESCRIPTION:DYC Board Meeting – in-person & virtual \nDYC Members welcome.  Non-members welcome through an invitation from a Board Member. \nMembers will receive an email to attend a couple weeks in advance.
URL:https://dunkirkyachtclub.org/event/dyc-board-meeting-6/
LOCATION:Dunkirk Yacht Club\, 90 Lake Shore Dr W\, Dunkirk\, NY 14048\, Dunkirk\, NY\, 14048\, United States
CATEGORIES:DYC Events,Events of Interest
ORGANIZER;CN="George Burns":MAILTO:gburns@marportsecurity.net
END:VEVENT
BEGIN:VEVENT
DTSTART;VALUE=DATE:20260718
DTEND;VALUE=DATE:20260719
DTSTAMP:20260422T190336
CREATED:20260415T012159Z
LAST-MODIFIED:20260415T012159Z
UID:1847-1784332800-1784419199@dunkirkyachtclub.org
SUMMARY:Barcelona Hangout
DESCRIPTION:Details via upcoming newsletter &/or private FB page
URL:https://dunkirkyachtclub.org/event/barcelona-hangout/
CATEGORIES:DYC Events,Events of Interest
END:VEVENT
BEGIN:VEVENT
DTSTART;VALUE=DATE:20260725
DTEND;VALUE=DATE:20260726
DTSTAMP:20260422T190336
CREATED:20260211T054854Z
LAST-MODIFIED:20260211T054854Z
UID:1787-1784937600-1785023999@dunkirkyachtclub.org
SUMMARY:DYC (Past) Commodore's Party
DESCRIPTION:
URL:https://dunkirkyachtclub.org/event/dyc-past-commodores-party/
LOCATION:Dunkirk Yacht Club\, 90 Lake Shore Dr W\, Dunkirk\, NY 14048\, Dunkirk\, NY\, 14048\, United States
CATEGORIES:DYC Events,Events of Interest
ORGANIZER;CN="George Burns":MAILTO:gburns@marportsecurity.net
END:VEVENT
BEGIN:VEVENT
DTSTART;VALUE=DATE:20260801
DTEND;VALUE=DATE:20260802
DTSTAMP:20260422T190336
CREATED:20260415T014006Z
LAST-MODIFIED:20260415T014006Z
UID:1861-1785542400-1785628799@dunkirkyachtclub.org
SUMMARY:Man Overboard Recovery Skill Building
DESCRIPTION:Details via upcoming newsletter &/or private FB page
URL:https://dunkirkyachtclub.org/event/man-overboard-recovery-skill-building/
LOCATION:Dunkirk Yacht Club\, 90 Lake Shore Dr W\, Dunkirk\, NY 14048\, Dunkirk\, NY\, 14048\, United States
CATEGORIES:DYC Events,Events of Interest
END:VEVENT
BEGIN:VEVENT
DTSTART;VALUE=DATE:20260808
DTEND;VALUE=DATE:20260810
DTSTAMP:20260422T190336
CREATED:20260415T013010Z
LAST-MODIFIED:20260415T013635Z
UID:1849-1786147200-1786319999@dunkirkyachtclub.org
SUMMARY:Trip to Port Colborne
DESCRIPTION:Details via upcoming newsletter &/or private FB page
URL:https://dunkirkyachtclub.org/event/trip-to-port-colborne/
CATEGORIES:DYC Events,Events of Interest
END:VEVENT
BEGIN:VEVENT
DTSTART;TZID=America/New_York:20260811T190000
DTEND;TZID=America/New_York:20260811T200000
DTSTAMP:20260422T190336
CREATED:20260203T051520Z
LAST-MODIFIED:20260203T051520Z
UID:1766-1786474800-1786478400@dunkirkyachtclub.org
SUMMARY:DYC Board Meeting
DESCRIPTION:DYC Board Meeting – in-person & virtual \nDYC Members welcome.  Non-members welcome through an invitation from a Board Member. \nMembers will receive an email to attend a couple weeks in advance.
URL:https://dunkirkyachtclub.org/event/dyc-board-meeting-7/
LOCATION:Dunkirk Yacht Club\, 90 Lake Shore Dr W\, Dunkirk\, NY 14048\, Dunkirk\, NY\, 14048\, United States
CATEGORIES:DYC Events,Events of Interest
ORGANIZER;CN="George Burns":MAILTO:gburns@marportsecurity.net
END:VEVENT
BEGIN:VEVENT
DTSTART;VALUE=DATE:20260822
DTEND;VALUE=DATE:20260823
DTSTAMP:20260422T190336
CREATED:20260415T003615Z
LAST-MODIFIED:20260415T012853Z
UID:1841-1787356800-1787443199@dunkirkyachtclub.org
SUMMARY:Sunset Bay Trip
DESCRIPTION:Details via upcoming newsletter &/or private FB page
URL:https://dunkirkyachtclub.org/event/sunset-bay-trip/
CATEGORIES:DYC Events,Events of Interest
END:VEVENT
BEGIN:VEVENT
DTSTART;VALUE=DATE:20260907
DTEND;VALUE=DATE:20260908
DTSTAMP:20260422T190336
CREATED:20260415T012632Z
LAST-MODIFIED:20260415T012632Z
UID:1853-1788739200-1788825599@dunkirkyachtclub.org
SUMMARY:Labor Day Party
DESCRIPTION:Details via upcoming newsletter &/or private FB page
URL:https://dunkirkyachtclub.org/event/labor-day-party-2/
LOCATION:Dunkirk Yacht Club\, 90 Lake Shore Dr W\, Dunkirk\, NY 14048\, Dunkirk\, NY\, 14048\, United States
CATEGORIES:DYC Events,Events of Interest
END:VEVENT
BEGIN:VEVENT
DTSTART;TZID=America/New_York:20260908T190000
DTEND;TZID=America/New_York:20260908T200000
DTSTAMP:20260422T190336
CREATED:20260203T051635Z
LAST-MODIFIED:20260203T051635Z
UID:1768-1788894000-1788897600@dunkirkyachtclub.org
SUMMARY:DYC Board Meeting
DESCRIPTION:DYC Board Meeting – in-person & virtual \nDYC Members welcome.  Non-members welcome through an invitation from a Board Member. \nMembers will receive an email to attend a couple weeks in advance.
URL:https://dunkirkyachtclub.org/event/dyc-board-meeting-8/
LOCATION:Dunkirk Yacht Club\, 90 Lake Shore Dr W\, Dunkirk\, NY 14048\, Dunkirk\, NY\, 14048\, United States
CATEGORIES:DYC Events,Events of Interest
ORGANIZER;CN="George Burns":MAILTO:gburns@marportsecurity.net
END:VEVENT
BEGIN:VEVENT
DTSTART;VALUE=DATE:20260919
DTEND;VALUE=DATE:20260920
DTSTAMP:20260422T190336
CREATED:20260311T054424Z
LAST-MODIFIED:20260311T054505Z
UID:1795-1789776000-1789862399@dunkirkyachtclub.org
SUMMARY:Clam Bake
DESCRIPTION:Details & Timing TBD
URL:https://dunkirkyachtclub.org/event/clam-bake/
LOCATION:Dunkirk Yacht Club\, 90 Lake Shore Dr W\, Dunkirk\, NY 14048\, Dunkirk\, NY\, 14048\, United States
CATEGORIES:DYC Events,Events of Interest
END:VEVENT
BEGIN:VEVENT
DTSTART;VALUE=DATE:20261003
DTEND;VALUE=DATE:20261004
DTSTAMP:20260422T190336
CREATED:20260415T012526Z
LAST-MODIFIED:20260415T012526Z
UID:1850-1790985600-1791071999@dunkirkyachtclub.org
SUMMARY:Die Hard Party / Chili Cookoff
DESCRIPTION:Details via upcoming newsletter &/or private FB page
URL:https://dunkirkyachtclub.org/event/die-hard-party-chili-cookoff-2/
LOCATION:Dunkirk Yacht Club\, 90 Lake Shore Dr W\, Dunkirk\, NY 14048\, Dunkirk\, NY\, 14048\, United States
CATEGORIES:DYC Events,Events of Interest
END:VEVENT
BEGIN:VEVENT
DTSTART;TZID=America/New_York:20261013T190000
DTEND;TZID=America/New_York:20261013T200000
DTSTAMP:20260422T190336
CREATED:20260203T051729Z
LAST-MODIFIED:20260203T051729Z
UID:1770-1791918000-1791921600@dunkirkyachtclub.org
SUMMARY:DYC Board Meeting
DESCRIPTION:DYC Board Meeting – in-person & virtual \nDYC Members welcome.  Non-members welcome through an invitation from a Board Member. \nMembers will receive an email to attend a couple weeks in advance.
URL:https://dunkirkyachtclub.org/event/dyc-board-meeting-9/
LOCATION:Dunkirk Yacht Club\, 90 Lake Shore Dr W\, Dunkirk\, NY 14048\, Dunkirk\, NY\, 14048\, United States
CATEGORIES:DYC Events,Events of Interest
ORGANIZER;CN="George Burns":MAILTO:gburns@marportsecurity.net
END:VEVENT
BEGIN:VEVENT
DTSTART;VALUE=DATE:20261017
DTEND;VALUE=DATE:20261018
DTSTAMP:20260422T190336
CREATED:20260415T013215Z
LAST-MODIFIED:20260415T013215Z
UID:1484-1792195200-1792281599@dunkirkyachtclub.org
SUMMARY:DYC Halloween Party
DESCRIPTION:Details via upcoming newsletter &/or private FB page \nBackup date possibly 10/24
URL:https://dunkirkyachtclub.org/event/dyc-halloween-party/
LOCATION:Dunkirk Yacht Club\, 90 Lake Shore Dr W\, Dunkirk\, NY 14048\, Dunkirk\, NY\, 14048\, United States
CATEGORIES:DYC Events,Events of Interest
END:VEVENT
BEGIN:VEVENT
DTSTART;VALUE=DATE:20261107
DTEND;VALUE=DATE:20261108
DTSTAMP:20260422T190336
CREATED:20260415T013318Z
LAST-MODIFIED:20260415T013318Z
UID:1858-1794009600-1794095999@dunkirkyachtclub.org
SUMMARY:Fall Banquet
DESCRIPTION:Details via upcoming newsletter &/or private FB page \nPotential backup date 10/24
URL:https://dunkirkyachtclub.org/event/fall-banquet-2/
CATEGORIES:DYC Events,Events of Interest
END:VEVENT
END:VCALENDAR