BEGIN:VCALENDAR
VERSION:2.0
PRODID:-//Dunkirk Yacht Club - ECPv6.15.20//NONSGML v1.0//EN
CALSCALE:GREGORIAN
METHOD:PUBLISH
X-ORIGINAL-URL:https://dunkirkyachtclub.org
X-WR-CALDESC:Events for Dunkirk Yacht Club
REFRESH-INTERVAL;VALUE=DURATION:PT1H
X-Robots-Tag:noindex
X-PUBLISHED-TTL:PT1H
BEGIN:VTIMEZONE
TZID:UTC
BEGIN:STANDARD
TZOFFSETFROM:+0000
TZOFFSETTO:+0000
TZNAME:UTC
DTSTART:20230101T000000
END:STANDARD
END:VTIMEZONE
BEGIN:VEVENT
DTSTART;TZID=UTC:20240527T130000
DTEND;TZID=UTC:20240527T150000
DTSTAMP:20260422T082608
CREATED:20240519T012736Z
LAST-MODIFIED:20240519T013958Z
UID:1385-1716814800-1716822000@dunkirkyachtclub.org
SUMMARY:Memorial Day Monday Lunch
DESCRIPTION:Monday May 27\, 1:00 PM\n$5 per person\nHot Dogs & Hamburgers\, Potato Salad\, leftovers!\nPlease Bring A dish To Pass\nRSVP to Markus Deas at\nmdeas2@liberty.edu\nor Text 716 951-6493\n(last minute attendance OK regardless of RSVP)
URL:https://dunkirkyachtclub.org/event/memorial-day-monday-dinner/
END:VEVENT
END:VCALENDAR