BEGIN:VCALENDAR
VERSION:2.0
PRODID:-//Dunkirk Yacht Club - ECPv6.15.20//NONSGML v1.0//EN
CALSCALE:GREGORIAN
METHOD:PUBLISH
X-WR-CALNAME:Dunkirk Yacht Club
X-ORIGINAL-URL:https://dunkirkyachtclub.org
X-WR-CALDESC:Events for Dunkirk Yacht Club
REFRESH-INTERVAL;VALUE=DURATION:PT1H
X-Robots-Tag:noindex
X-PUBLISHED-TTL:PT1H
BEGIN:VTIMEZONE
TZID:UTC
BEGIN:STANDARD
TZOFFSETFROM:+0000
TZOFFSETTO:+0000
TZNAME:UTC
DTSTART:20230101T000000
END:STANDARD
END:VTIMEZONE
BEGIN:VEVENT
DTSTART;TZID=UTC:20240526T140000
DTEND;TZID=UTC:20240526T200000
DTSTAMP:20260422T082446
CREATED:20240519T012104Z
LAST-MODIFIED:20240519T014053Z
UID:1383-1716732000-1716753600@dunkirkyachtclub.org
SUMMARY:Memorial Day Sunday Dinner
DESCRIPTION:Come join us at the club for our\nfirst social gatherings of the year!\nSunday May 26\, 4:00 PM\n$10 per person\nBBcue Chicken\, Pulled Pork\, Potato Salad\nRSVP to Markus Deas at\nmdeas2@liberty.edu\nor Text 716 951-6493\n(last minute attendance OK regardless of RSVP)
URL:https://dunkirkyachtclub.org/event/memorial-day-sunday-dinnerhttps-dunkirkyachtclub-org-wp-content-uploads-2024-05-dyc-memorial-day-weekend-2024-pdf/
LOCATION:Dunkirk Yacht Club\, 90 Lake Shore Dr W\, Dunkirk\, NY 14048\, Dunkirk\, NY\, 14048\, United States
ORGANIZER;CN="George Burns":MAILTO:gburns@marportsecurity.net
END:VEVENT
END:VCALENDAR