BEGIN:VCALENDAR
VERSION:2.0
PRODID:-//Dunkirk Yacht Club - ECPv6.15.20//NONSGML v1.0//EN
CALSCALE:GREGORIAN
METHOD:PUBLISH
X-WR-CALNAME:Dunkirk Yacht Club
X-ORIGINAL-URL:https://dunkirkyachtclub.org
X-WR-CALDESC:Events for Dunkirk Yacht Club
REFRESH-INTERVAL;VALUE=DURATION:PT1H
X-Robots-Tag:noindex
X-PUBLISHED-TTL:PT1H
BEGIN:VTIMEZONE
TZID:UTC
BEGIN:STANDARD
TZOFFSETFROM:+0000
TZOFFSETTO:+0000
TZNAME:UTC
DTSTART:20220101T000000
END:STANDARD
END:VTIMEZONE
BEGIN:VEVENT
DTSTART;TZID=UTC:20231104T180000
DTEND;TZID=UTC:20231104T230000
DTSTAMP:20260422T185218
CREATED:20230514T030504Z
LAST-MODIFIED:20230514T030517Z
UID:1303-1699120800-1699138800@dunkirkyachtclub.org
SUMMARY:Fall Banquet
DESCRIPTION:
URL:https://dunkirkyachtclub.org/event/fall-banquet/
END:VEVENT
END:VCALENDAR