BEGIN:VCALENDAR
VERSION:2.0
PRODID:-//Dunkirk Yacht Club - ECPv6.15.20//NONSGML v1.0//EN
CALSCALE:GREGORIAN
METHOD:PUBLISH
X-ORIGINAL-URL:https://dunkirkyachtclub.org
X-WR-CALDESC:Events for Dunkirk Yacht Club
REFRESH-INTERVAL;VALUE=DURATION:PT1H
X-Robots-Tag:noindex
X-PUBLISHED-TTL:PT1H
BEGIN:VTIMEZONE
TZID:UTC
BEGIN:STANDARD
TZOFFSETFROM:+0000
TZOFFSETTO:+0000
TZNAME:UTC
DTSTART:20220101T000000
END:STANDARD
END:VTIMEZONE
BEGIN:VEVENT
DTSTART;TZID=UTC:20230616T173000
DTEND;TZID=UTC:20230616T193000
DTSTAMP:20260423T013156
CREATED:20230514T025936Z
LAST-MODIFIED:20230514T025945Z
UID:1291-1686936600-1686943800@dunkirkyachtclub.org
SUMMARY:New Member Orientation
DESCRIPTION:
URL:https://dunkirkyachtclub.org/event/new-member-orientation/
LOCATION:Dunkirk Yacht Club\, 90 Lake Shore Dr W\, Dunkirk\, NY 14048\, Dunkirk\, NY\, 14048\, United States
END:VEVENT
END:VCALENDAR